BEGIN:VCALENDAR
VERSION:2.0
PRODID:-//My Calendar//http://www.joedolson.com//v3.1.18//EN
METHOD:PUBLISH
CALSCALE:GREGORIAN
X-WR-CALNAME:RSL Healesville
X-PUBLISHED-TTL:PT24H
REFRESH-INTERVAL;VALUE=DURATION:PT24H
X-WR-CALDESC:Events from RSL Healesville
BEGIN:VEVENT
UID:1640-39
LOCATION:
SUMMARY:Sunday Bus Trip
DTSTAMP:20190210T073000
ORGANIZER;CN=rsl:MAILTO:healesvillersl@bigpond.com
DTSTART;TZID=Etc/GMT-10:20190210T073000
DTEND;TZID=Etc/GMT-10:20190210T173000
URL;VALUE=URI:http://healesvillersl.com.au/news-events/events-calendar/
DESCRIPTION:See staff for details 
CATEGORIES:Social
END:VEVENT
BEGIN:VEVENT
UID:1589-38
LOCATION:
SUMMARY:Roast Carvery
DTSTAMP:20190106T120000
ORGANIZER;CN=rsl:MAILTO:healesvillersl@bigpond.com
DTSTART;TZID=Etc/GMT-10:20190106T120000
DTEND;TZID=Etc/GMT-10:20190106T140000
URL;VALUE=URI:http://healesvillersl.com.au/news-events/events-calendar/
DESCRIPTION: 
CATEGORIES:Bistro
END:VEVENT
BEGIN:VEVENT
UID:1590-38
LOCATION:
SUMMARY:Roast Carvery
DTSTAMP:20190113T120000
ORGANIZER;CN=rsl:MAILTO:healesvillersl@bigpond.com
DTSTART;TZID=Etc/GMT-10:20190113T120000
DTEND;TZID=Etc/GMT-10:20190113T140000
URL;VALUE=URI:http://healesvillersl.com.au/news-events/events-calendar/
DESCRIPTION: 
CATEGORIES:Bistro
END:VEVENT
BEGIN:VEVENT
UID:1591-38
LOCATION:
SUMMARY:Roast Carvery
DTSTAMP:20190120T120000
ORGANIZER;CN=rsl:MAILTO:healesvillersl@bigpond.com
DTSTART;TZID=Etc/GMT-10:20190120T120000
DTEND;TZID=Etc/GMT-10:20190120T140000
URL;VALUE=URI:http://healesvillersl.com.au/news-events/events-calendar/
DESCRIPTION: 
CATEGORIES:Bistro
END:VEVENT
BEGIN:VEVENT
UID:1592-38
LOCATION:
SUMMARY:Roast Carvery
DTSTAMP:20190127T120000
ORGANIZER;CN=rsl:MAILTO:healesvillersl@bigpond.com
DTSTART;TZID=Etc/GMT-10:20190127T120000
DTEND;TZID=Etc/GMT-10:20190127T140000
URL;VALUE=URI:http://healesvillersl.com.au/news-events/events-calendar/
DESCRIPTION: 
CATEGORIES:Bistro
END:VEVENT
BEGIN:VEVENT
UID:1593-38
LOCATION:
SUMMARY:Roast Carvery
DTSTAMP:20190203T120000
ORGANIZER;CN=rsl:MAILTO:healesvillersl@bigpond.com
DTSTART;TZID=Etc/GMT-10:20190203T120000
DTEND;TZID=Etc/GMT-10:20190203T140000
URL;VALUE=URI:http://healesvillersl.com.au/news-events/events-calendar/
DESCRIPTION: 
CATEGORIES:Bistro
END:VEVENT
BEGIN:VEVENT
UID:1594-38
LOCATION:
SUMMARY:Roast Carvery
DTSTAMP:20190210T120000
ORGANIZER;CN=rsl:MAILTO:healesvillersl@bigpond.com
DTSTART;TZID=Etc/GMT-10:20190210T120000
DTEND;TZID=Etc/GMT-10:20190210T140000
URL;VALUE=URI:http://healesvillersl.com.au/news-events/events-calendar/
DESCRIPTION: 
CATEGORIES:Bistro
END:VEVENT
BEGIN:VEVENT
UID:1595-38
LOCATION:
SUMMARY:Roast Carvery
DTSTAMP:20190217T120000
ORGANIZER;CN=rsl:MAILTO:healesvillersl@bigpond.com
DTSTART;TZID=Etc/GMT-10:20190217T120000
DTEND;TZID=Etc/GMT-10:20190217T140000
URL;VALUE=URI:http://healesvillersl.com.au/news-events/events-calendar/
DESCRIPTION: 
CATEGORIES:Bistro
END:VEVENT
BEGIN:VEVENT
UID:1596-38
LOCATION:
SUMMARY:Roast Carvery
DTSTAMP:20190224T120000
ORGANIZER;CN=rsl:MAILTO:healesvillersl@bigpond.com
DTSTART;TZID=Etc/GMT-10:20190224T120000
DTEND;TZID=Etc/GMT-10:20190224T140000
URL;VALUE=URI:http://healesvillersl.com.au/news-events/events-calendar/
DESCRIPTION: 
CATEGORIES:Bistro
END:VEVENT
BEGIN:VEVENT
UID:1597-38
LOCATION:
SUMMARY:Roast Carvery
DTSTAMP:20190303T120000
ORGANIZER;CN=rsl:MAILTO:healesvillersl@bigpond.com
DTSTART;TZID=Etc/GMT-10:20190303T120000
DTEND;TZID=Etc/GMT-10:20190303T140000
URL;VALUE=URI:http://healesvillersl.com.au/news-events/events-calendar/
DESCRIPTION: 
CATEGORIES:Bistro
END:VEVENT
BEGIN:VEVENT
UID:1598-38
LOCATION:
SUMMARY:Roast Carvery
DTSTAMP:20190310T120000
ORGANIZER;CN=rsl:MAILTO:healesvillersl@bigpond.com
DTSTART;TZID=Etc/GMT-10:20190310T120000
DTEND;TZID=Etc/GMT-10:20190310T140000
URL;VALUE=URI:http://healesvillersl.com.au/news-events/events-calendar/
DESCRIPTION: 
CATEGORIES:Bistro
END:VEVENT
BEGIN:VEVENT
UID:1599-38
LOCATION:
SUMMARY:Roast Carvery
DTSTAMP:20190317T120000
ORGANIZER;CN=rsl:MAILTO:healesvillersl@bigpond.com
DTSTART;TZID=Etc/GMT-10:20190317T120000
DTEND;TZID=Etc/GMT-10:20190317T140000
URL;VALUE=URI:http://healesvillersl.com.au/news-events/events-calendar/
DESCRIPTION: 
CATEGORIES:Bistro
END:VEVENT
BEGIN:VEVENT
UID:1600-38
LOCATION:
SUMMARY:Roast Carvery
DTSTAMP:20190324T120000
ORGANIZER;CN=rsl:MAILTO:healesvillersl@bigpond.com
DTSTART;TZID=Etc/GMT-10:20190324T120000
DTEND;TZID=Etc/GMT-10:20190324T140000
URL;VALUE=URI:http://healesvillersl.com.au/news-events/events-calendar/
DESCRIPTION: 
CATEGORIES:Bistro
END:VEVENT
BEGIN:VEVENT
UID:1601-38
LOCATION:
SUMMARY:Roast Carvery
DTSTAMP:20190331T120000
ORGANIZER;CN=rsl:MAILTO:healesvillersl@bigpond.com
DTSTART;TZID=Etc/GMT-10:20190331T120000
DTEND;TZID=Etc/GMT-10:20190331T140000
URL;VALUE=URI:http://healesvillersl.com.au/news-events/events-calendar/
DESCRIPTION: 
CATEGORIES:Bistro
END:VEVENT
BEGIN:VEVENT
UID:1602-38
LOCATION:
SUMMARY:Roast Carvery
DTSTAMP:20190407T120000
ORGANIZER;CN=rsl:MAILTO:healesvillersl@bigpond.com
DTSTART;TZID=Etc/GMT-10:20190407T120000
DTEND;TZID=Etc/GMT-10:20190407T140000
URL;VALUE=URI:http://healesvillersl.com.au/news-events/events-calendar/
DESCRIPTION: 
CATEGORIES:Bistro
END:VEVENT
BEGIN:VEVENT
UID:1603-38
LOCATION:
SUMMARY:Roast Carvery
DTSTAMP:20190414T120000
ORGANIZER;CN=rsl:MAILTO:healesvillersl@bigpond.com
DTSTART;TZID=Etc/GMT-10:20190414T120000
DTEND;TZID=Etc/GMT-10:20190414T140000
URL;VALUE=URI:http://healesvillersl.com.au/news-events/events-calendar/
DESCRIPTION: 
CATEGORIES:Bistro
END:VEVENT
BEGIN:VEVENT
UID:1604-38
LOCATION:
SUMMARY:Roast Carvery
DTSTAMP:20190421T120000
ORGANIZER;CN=rsl:MAILTO:healesvillersl@bigpond.com
DTSTART;TZID=Etc/GMT-10:20190421T120000
DTEND;TZID=Etc/GMT-10:20190421T140000
URL;VALUE=URI:http://healesvillersl.com.au/news-events/events-calendar/
DESCRIPTION: 
CATEGORIES:Bistro
END:VEVENT
BEGIN:VEVENT
UID:1605-38
LOCATION:
SUMMARY:Roast Carvery
DTSTAMP:20190428T120000
ORGANIZER;CN=rsl:MAILTO:healesvillersl@bigpond.com
DTSTART;TZID=Etc/GMT-10:20190428T120000
DTEND;TZID=Etc/GMT-10:20190428T140000
URL;VALUE=URI:http://healesvillersl.com.au/news-events/events-calendar/
DESCRIPTION: 
CATEGORIES:Bistro
END:VEVENT
BEGIN:VEVENT
UID:1606-38
LOCATION:
SUMMARY:Roast Carvery
DTSTAMP:20190505T120000
ORGANIZER;CN=rsl:MAILTO:healesvillersl@bigpond.com
DTSTART;TZID=Etc/GMT-10:20190505T120000
DTEND;TZID=Etc/GMT-10:20190505T140000
URL;VALUE=URI:http://healesvillersl.com.au/news-events/events-calendar/
DESCRIPTION: 
CATEGORIES:Bistro
END:VEVENT
BEGIN:VEVENT
UID:1607-38
LOCATION:
SUMMARY:Roast Carvery
DTSTAMP:20190512T120000
ORGANIZER;CN=rsl:MAILTO:healesvillersl@bigpond.com
DTSTART;TZID=Etc/GMT-10:20190512T120000
DTEND;TZID=Etc/GMT-10:20190512T140000
URL;VALUE=URI:http://healesvillersl.com.au/news-events/events-calendar/
DESCRIPTION: 
CATEGORIES:Bistro
END:VEVENT
BEGIN:VEVENT
UID:1608-38
LOCATION:
SUMMARY:Roast Carvery
DTSTAMP:20190519T120000
ORGANIZER;CN=rsl:MAILTO:healesvillersl@bigpond.com
DTSTART;TZID=Etc/GMT-10:20190519T120000
DTEND;TZID=Etc/GMT-10:20190519T140000
URL;VALUE=URI:http://healesvillersl.com.au/news-events/events-calendar/
DESCRIPTION: 
CATEGORIES:Bistro
END:VEVENT
BEGIN:VEVENT
UID:1609-38
LOCATION:
SUMMARY:Roast Carvery
DTSTAMP:20190526T120000
ORGANIZER;CN=rsl:MAILTO:healesvillersl@bigpond.com
DTSTART;TZID=Etc/GMT-10:20190526T120000
DTEND;TZID=Etc/GMT-10:20190526T140000
URL;VALUE=URI:http://healesvillersl.com.au/news-events/events-calendar/
DESCRIPTION: 
CATEGORIES:Bistro
END:VEVENT
BEGIN:VEVENT
UID:1610-38
LOCATION:
SUMMARY:Roast Carvery
DTSTAMP:20190602T120000
ORGANIZER;CN=rsl:MAILTO:healesvillersl@bigpond.com
DTSTART;TZID=Etc/GMT-10:20190602T120000
DTEND;TZID=Etc/GMT-10:20190602T140000
URL;VALUE=URI:http://healesvillersl.com.au/news-events/events-calendar/
DESCRIPTION: 
CATEGORIES:Bistro
END:VEVENT
BEGIN:VEVENT
UID:1611-38
LOCATION:
SUMMARY:Roast Carvery
DTSTAMP:20190609T120000
ORGANIZER;CN=rsl:MAILTO:healesvillersl@bigpond.com
DTSTART;TZID=Etc/GMT-10:20190609T120000
DTEND;TZID=Etc/GMT-10:20190609T140000
URL;VALUE=URI:http://healesvillersl.com.au/news-events/events-calendar/
DESCRIPTION: 
CATEGORIES:Bistro
END:VEVENT
BEGIN:VEVENT
UID:1612-38
LOCATION:
SUMMARY:Roast Carvery
DTSTAMP:20190616T120000
ORGANIZER;CN=rsl:MAILTO:healesvillersl@bigpond.com
DTSTART;TZID=Etc/GMT-10:20190616T120000
DTEND;TZID=Etc/GMT-10:20190616T140000
URL;VALUE=URI:http://healesvillersl.com.au/news-events/events-calendar/
DESCRIPTION: 
CATEGORIES:Bistro
END:VEVENT
BEGIN:VEVENT
UID:1613-38
LOCATION:
SUMMARY:Roast Carvery
DTSTAMP:20190623T120000
ORGANIZER;CN=rsl:MAILTO:healesvillersl@bigpond.com
DTSTART;TZID=Etc/GMT-10:20190623T120000
DTEND;TZID=Etc/GMT-10:20190623T140000
URL;VALUE=URI:http://healesvillersl.com.au/news-events/events-calendar/
DESCRIPTION: 
CATEGORIES:Bistro
END:VEVENT
BEGIN:VEVENT
UID:1614-38
LOCATION:
SUMMARY:Roast Carvery
DTSTAMP:20190630T120000
ORGANIZER;CN=rsl:MAILTO:healesvillersl@bigpond.com
DTSTART;TZID=Etc/GMT-10:20190630T120000
DTEND;TZID=Etc/GMT-10:20190630T140000
URL;VALUE=URI:http://healesvillersl.com.au/news-events/events-calendar/
DESCRIPTION: 
CATEGORIES:Bistro
END:VEVENT
BEGIN:VEVENT
UID:1615-38
LOCATION:
SUMMARY:Roast Carvery
DTSTAMP:20190707T120000
ORGANIZER;CN=rsl:MAILTO:healesvillersl@bigpond.com
DTSTART;TZID=Etc/GMT-10:20190707T120000
DTEND;TZID=Etc/GMT-10:20190707T140000
URL;VALUE=URI:http://healesvillersl.com.au/news-events/events-calendar/
DESCRIPTION: 
CATEGORIES:Bistro
END:VEVENT
BEGIN:VEVENT
UID:1616-38
LOCATION:
SUMMARY:Roast Carvery
DTSTAMP:20190714T120000
ORGANIZER;CN=rsl:MAILTO:healesvillersl@bigpond.com
DTSTART;TZID=Etc/GMT-10:20190714T120000
DTEND;TZID=Etc/GMT-10:20190714T140000
URL;VALUE=URI:http://healesvillersl.com.au/news-events/events-calendar/
DESCRIPTION: 
CATEGORIES:Bistro
END:VEVENT
BEGIN:VEVENT
UID:1617-38
LOCATION:
SUMMARY:Roast Carvery
DTSTAMP:20190721T120000
ORGANIZER;CN=rsl:MAILTO:healesvillersl@bigpond.com
DTSTART;TZID=Etc/GMT-10:20190721T120000
DTEND;TZID=Etc/GMT-10:20190721T140000
URL;VALUE=URI:http://healesvillersl.com.au/news-events/events-calendar/
DESCRIPTION: 
CATEGORIES:Bistro
END:VEVENT
END:VCALENDAR